BEGIN:VCALENDAR
VERSION:2.0
PRODID:-//Asit Store Sandbox - ECPv4.9.14//NONSGML v1.0//EN
CALSCALE:GREGORIAN
METHOD:PUBLISH
X-WR-CALNAME:Asit Store Sandbox
X-ORIGINAL-URL:https://www.sandbox.asit.it
X-WR-CALDESC:Eventi per Asit Store Sandbox
BEGIN:VTIMEZONE
TZID:UTC
BEGIN:STANDARD
TZOFFSETFROM:+0000
TZOFFSETTO:+0000
TZNAME:UTC
DTSTART:20190101T000000
END:STANDARD
END:VTIMEZONE
BEGIN:VEVENT
DTSTART;TZID=UTC:20190619T093000
DTEND;TZID=UTC:20190619T123000
DTSTAMP:20260419T170318
CREATED:20190218T170712Z
LAST-MODIFIED:20190506T091851Z
UID:27676-1560936600-1560947400@www.sandbox.asit.it
SUMMARY:Fluke | Care Day Torino
DESCRIPTION:Registrati al DSX Care Day che si terrà il 19 giugno a Torino. Ottieni una verifica gratuita dello stato del tuo DSX e scopri come ottenere il massimo dal tuo investimento.\nE’ richiesto ai partecipanti di portare con se il proprio strumento DSX \nPartecipando all’evento della durata di mezza giornata potrai:\n\nBeneficiare di una verifica gratuita dello stato del tuo DSX per testare il corretto funzionamento dello strumento. Riceverai un report stampato della verifica dello stato del tuo DSX\, che sarà pulito e aggiornato alla versione più recente del firmware.\nConoscere il significato di una calibrazione eseguita come in fabbrica agli intervalli specificati dal produttore e il metodo corretto di eseguire una calibrazione per garantire i livelli di precisione previsti.\nScoprire gli ultimi sviluppi negli standard per le infrastrutture di cablaggio.\nPotere attendere una dimostrazione eseguito da un esperto Fluke Networks della nuova soluzione LinkWare Live SaaS (Software-as-a-Service). Ti aiuterà a configurare le credenziali del tuo account gratuito e ti spiegherà come utilizzare al meglio la soluzione SaaS.\nAvere a tua disposizione esempi delle più recenti opzioni Versiv\, miglioramenti e accessori da esaminare e vedere in funzione durante la sessione\n\nIl programma\n\n\n\n\n9:30\nIntroduzione e presentazione\n\n\n\nIntroduzione al Care Day\n\n\n\nIntroduzione alle misure che affettueremo\n\n\n\nStandard Update\n\n\n\nCertificazione rame: 4 step\, MPTL\, TCL\, Reistenza PoE\n\n\n\nCertificazione fibra ottica: 4 step\,  OLTS\, OTDR\n\n\n11:30\nPausa caffè\n\n\n\nLWL – SAAS\n\n\n\nLWL – SAAS\n\n\n12:00\nDemo Lab\n\n\n\n\nIscriviti all’evento \n
URL:https://www.sandbox.asit.it/evento/fluke-care-day-torino/
LOCATION:ASIT Torino\, Via Goretta 90/F\, Mappano\, TO\, 10079\, Italia
ATTACH;FMTTYPE=image/jpeg:https://www.sandbox.asit.it/wp-content/uploads/2019/02/asit_articolo_fluke_care.jpg
ORGANIZER;CN="ASIT%20SPA":MAILTO:marketing@asit.it
END:VEVENT
END:VCALENDAR